BEGIN:VCALENDAR
VERSION:2.0
PRODID:-//Vitalzentrum Schwarzenberg - ECPv6.15.20//NONSGML v1.0//EN
CALSCALE:GREGORIAN
METHOD:PUBLISH
X-ORIGINAL-URL:https://vitalzentrum-schwarzenberg.de
X-WR-CALDESC:Veranstaltungen für Vitalzentrum Schwarzenberg
REFRESH-INTERVAL;VALUE=DURATION:PT1H
X-Robots-Tag:noindex
X-PUBLISHED-TTL:PT1H
BEGIN:VTIMEZONE
TZID:Europe/Berlin
BEGIN:DAYLIGHT
TZOFFSETFROM:+0100
TZOFFSETTO:+0200
TZNAME:CEST
DTSTART:20250330T010000
END:DAYLIGHT
BEGIN:STANDARD
TZOFFSETFROM:+0200
TZOFFSETTO:+0100
TZNAME:CET
DTSTART:20251026T010000
END:STANDARD
BEGIN:DAYLIGHT
TZOFFSETFROM:+0100
TZOFFSETTO:+0200
TZNAME:CEST
DTSTART:20260329T010000
END:DAYLIGHT
BEGIN:STANDARD
TZOFFSETFROM:+0200
TZOFFSETTO:+0100
TZNAME:CET
DTSTART:20261025T010000
END:STANDARD
BEGIN:DAYLIGHT
TZOFFSETFROM:+0100
TZOFFSETTO:+0200
TZNAME:CEST
DTSTART:20270328T010000
END:DAYLIGHT
BEGIN:STANDARD
TZOFFSETFROM:+0200
TZOFFSETTO:+0100
TZNAME:CET
DTSTART:20271031T010000
END:STANDARD
END:VTIMEZONE
BEGIN:VEVENT
DTSTART;TZID=Europe/Berlin:20260516T090000
DTEND;TZID=Europe/Berlin:20260517T170000
DTSTAMP:20260421T194353
CREATED:20260120T151618Z
LAST-MODIFIED:20260319T093540Z
UID:4741-1778922000-1779037200@vitalzentrum-schwarzenberg.de
SUMMARY:Zehenanalyse Einstiegskurs
DESCRIPTION:Bei einem Erwachsenen ist meist reine Neugier. Über die Zehenanalyse werden Verhaltensmuster aufgezeigt\, die uns oft nicht bewusst sind\, bzw. die wir uns oft nicht eingestehen wollen. Die Zehenanalyse ist keine Lebensberatung\, jedoch können Kräfte aufgezeigt werden\, die in uns schlummern\, für uns wichtig sind und uns stärken können. Kräfte\, welche wir positiv nutzen können\, wenn wir einen anderen Weg einschlagen. Bei Babys kann man schon am ersten Tag nach der Geburt durch die Analyse der Zehen erkennen\, ob es ein Schreikind wird (viel Kommunikation braucht). Bei Kleinkindern sieht man anhand der Zehen\, ob es frühzeitig Aufgaben braucht\, die es selbständig erledigen kann. Erkennt man diese Bedürfnisse\, sind Kinder viel ausgeglichener und trauen sich später mehr zu. \n\n\n\nACHTUNG: Keine medizinischen Vorkenntnisse nötig! \n\n\n\nKursleiterin:Maria Süß ist Podologin und Zehenanalytikerin mit jahrelanger Erfahrung. Unzählige Füße hielt sie in ihren Händen\, hat sie analysiert und Verborgenes zutage gebracht. Seit vielen Jahren hält Maria Süß Seminare\, um den Menschen den Blick auf uraltes Wissen in neuen Füßen zu ermöglichen. \n\n\n\nBitte Schreibzeug mitbringen. \n\n\n\nZehenanalyse GrundkursHerunterladen
URL:https://vitalzentrum-schwarzenberg.de/event/zehenanalyse-einstiegskurs/
LOCATION:Vitalzentrum Schwarzenberg\, Anton-Günther-Straße 1\, Schwarzenberg\, Sachsen\, 08340\, Germany
ORGANIZER;CN="B%C3%A4rbel":MAILTO:info@physiotherapie-espig.de
END:VEVENT
END:VCALENDAR